Workbook
Name \I: #REF!
Name \P: #REF!
Name \t: #N/A
Name __?__123Graph_A: NA()
Name __?__123Graph_A_1: NA()
Name __?__123Graph_A_10: NA()
Name __?__123Graph_A_11: NA()
Name __?__123Graph_A_12: NA()
Name __?__123Graph_A_13: NA()
Name __?__123Graph_A_14: NA()
Name __?__123Graph_A_15: NA()
Name __?__123Graph_A_16: NA()
Name __?__123Graph_A_17: NA()
Name __?__123Graph_A_18: NA()
Name __?__123Graph_A_19: NA()
Name __?__123Graph_A_2: NA()
Name __?__123Graph_A_3: NA()
Name __?__123Graph_A_4: NA()
Name __?__123Graph_A_5: NA()
Name __?__123Graph_A_6: NA()
Name __?__123Graph_A_7: NA()
Name __?__123Graph_A_8: NA()
Name __?__123Graph_A_9: NA()
Name ______MAC18: #REF!
Name ______Tab110: #REF!
Name ______Tab112: #REF!
Name ______Tab13: #REF!
Name ______Tab15: #REF!
Name ______Tab19: #REF!
Name _____MAC18: #REF!
Name _____Tab11: #REF!
Name _____Tab110: #REF!
Name _____Tab111: #REF!
Name _____Tab112: #REF!
Name _____Tab13: #REF!
Name _____Tab15: #REF!
Name _____Tab19: #REF!
Name ____MAC18: #REF!
Name ____TAB1: #N/A
Name ____Tab11: #REF!
Name ____Tab110: #REF!
Name ____Tab111: #REF!
Name ____Tab112: #REF!
Name ____Tab13: #REF!
Name ____Tab15: #REF!
Name ____Tab19: #REF!
Name ____TAB2: #REF!
Name ___MAC18: #REF!
Name ___TAB1: #N/A
Name ___Tab11: #REF!
Name ___Tab110: #REF!
Name ___Tab111: #REF!
Name ___Tab112: #REF!
Name ___Tab13: #REF!
Name ___Tab15: #REF!
Name ___Tab19: #REF!
Name ___TAB2: #REF!
Name __123Graph_A_1: NA()
Name __123Graph_A_10: NA()
Name __123Graph_A_11: NA()

Sheet Índice
AF3: Análise de Conjuntura - Ano Base 2025
Q6: Gráfico 1 - Área colhida e de plantio de cana do setor sucroenergético (Brasil) | AF6: Gráfico 16 - Produção e exportação brasileira de açúcar | AU6: Gráfico 31 - Demanda do ciclo Otto e participação dos diferentes combustíveis | BJ6: Gráfico 46 - Participação das demais biomassas x cana-de-açúcar | BY6: Gráfico 61 - Intensidade de Carbono do biocombustível e de seu substituto fóssil e NEEA
Q10: Gráfico 2 - Participação da cana planta na área total colhida e produtividade (Brasil) | AF10: Gráfico 17 - Preços internacionais do açúcar VHP e refinado | AU10: Gráfico 32 - Demanda anual de etanol hidratado e gasolina C | BJ10: Gráfico 47 - Preços médios - biodiesel e diesel sem ICMS | BY10: Gráfico 62 - Volume produzido, volume elegível e não elegível por rota em 2025
Q14: Gráfico 3 - Idade média do canavial (Brasil e regiões) | AF14: Gráfico 18 - Mix e preços do açúcar e etanol hidratado (c/CBIO) | AU14: Gráfico 33 - Produção, demanda e importação líquida de gasolina A | BJ14: Gráfico 48 - Capacidade autorizada e consumo de Biodiesel em 2026 | BY14: Gráfico 63 - Metas compulsórias de redução de emissões de GEE e IC projetada
Q18: Gráfico 4 - Colheita e Plantio mecanizados x Rendimento da cana | AF18: Gráfico 19 - Mix de produção (açúcar x etanol) | AU18: Gráfico 34 - Preços de etanol hidratado | BJ18: Gráfico 49 - Participação da produção regional de biodiesel em 2026 | BY18: Gráfico 64 – Balanço acumulado de oferta e demanda de CBIO em 2025
Q22: Gráfico 5 - Histórico anual do processamento de cana e ATR | AF22: Gráfico 20 - Valor captado de financiamentos públicos para o setor de etanol e açúcar | AU22: Gráfico 35 - Relação de preços entre o hidratado e a gasolina C (PE/PG) | BJ22: Gráfico 50 - Oferta de diesel A e produção de biodiesel | BY22: Gráfico 65 - Estoque X Aposentadoria de CBIO 2025
Q26: Gráfico 6 - Área de plantio de milho por safra (Brasil) | AF26: Gráfico 21 - Licenciamento de veículos leves por categoria | AU26: Gráfico 36 - PE, PG e relação PE/PG mensal em 2025 | BJ26: Gráfico 51 - Participação de matérias-primas para a produção de biodiesel em 2026 | BY26: Gráfico 66 – Fluxos do CBIO no exercício de 2025 (milhões de unidades)
Q30: Gráfico 7 - Produtividade de milho por safra (Brasil) | AF30: Gráfico 22 – Licenciamento de automóveis por porte em 2025 | AU30: Gráfico 37 - Diferenciação Tributária - ICMS “ad rem” (*) (gasolina C x etanol hidratado) 2025 | BJ30: Gráfico 52 - Mercado do óleo de soja | BY30: Gráfico 67 - Quantidades negociadas e preços médios de CBIO
Q34: Gráfico 8 - Evolução da produção de milho e distribuição por safra | AF34: Gráfico 23 - Depreciação dos veículos: convencionais (c) vs eletrificados (e) | AU34: Gráfico 38 - Fluxo de usinas de etanol de cana e milho no Brasil | BJ34: Gráfico 53 - Exportação de glicerina e glicerol | BY34: Gráfico 68 – Preço mensal do CBIO e marcos regulatórios (jan/2022 – maijul/2026)
Q38: Gráfico 9 - Evolução da destinação do milho no Brasil | AF38: Gráfico 24 - Licenciamento de motocicletas | AU38: Gráfico 39 - Produção, capacidade excedente e nominal de etanol em 2025 | BJ38: Gráfico 54 - Importação de metanol para biodiesel | BY38: Gráfico 69 – Posicionamento do RenovaBio entre as principais políticas de precificação de carbono (2025)
Q42: Gráfico 10 - Processamento mensal de milho para a produção de etanol, por unidade da federação | AF42: Gráfico 25 - Faixas de idade de automóveis, comerciais leves e motocicletas em 2025 | AU42: Gráfico 40 - Evolução da capacidade instalada de produção de etanol no Brasil | BJ42: Gráfico 55 - Exportações e importações brasileiras de etanol – 2014 a 2025 | BY42: Gráfico 70 - Conexões de GD a biogás por ano.
Q46: Gráfico 11- Preço médio de milho total (Brasil) | AF46: Gráfico 26 - Licenciamento de eletrificados e participação no licenciamento total | AU46: Gráfico 41 - Capacidade brasileira de tancagem de etanol por região em 2025 | BJ46: Gráfico 56 - Emissões Evitadas dos biocombustíveis e da bioeletricidade em 2025 | BY46: Gráfico 71 - Plantas de biogás e biometano (esquerda) e volume de biogás por uso energético (direita).
Q50: Gráfico 12 - Produção brasileira de etanol de milho | AF50: Gráfico 27 - Participação de tecnologias no segmento de eletrificados | AU50: Gráfico 42 - Participação da biomassa na geração elétrica | BJ50: Gráfico 57 - Emissões Evitadas com Bioenergia nos últimos 5 anos | BY50: Gráfico 72- Distribuição da capacidade projetada de biometano por substrato.
Q54: Gráfico 13 - Produção brasileira de etanol total (da cana e do milho) | AF54: Gráfico 28 - Evolução de postos de recarga de veículos elétricos no Brasil | AU54: Gráfico 43 - Autoconsumo e energia exportada pelas usinas de biomassa de cana | BJ54: Gráfico 58 - Certificações de produção de biocombustíveis válidas | BY54: Gráfico 73 - Balanço de demanda e oferta de biometano na projeção decenal.
Q58: Gráfico 14 - Produção mensal de etanol de cana e de milho | AF58: Gráfico 29 - Indicadores qualitativos de recarga de veículos elétricos no Brasil e em países selecionados | AU58: Gráfico 44 - Histórico de energia contratada e cana processada | BJ58: Gráfico 59 - Certificações por rota de produção e percentual do volume elegível por rota
Q62: Gráfico 15 - Evolução mensal do estoque físico de etanol | AF62: Gráfico 30 - Demanda do ciclo Otto – Faixa de variação dos últimos 5 anos versus 2025 | AU62: Gráfico 45 - Geração térmica a biomassa de cana versus PLD | BJ62: Gráfico 60 - Nota de Eficiência Energético-Ambiental das unidades certificadas

Sheet A-1
A1: Voltar p/ Índice
E3: =Índice!AF3 -> Análise de Conjuntura - Ano Base 2025
C6: =Índice!Q6 -> Gráfico 1 - Área colhida e de plantio de cana do setor sucroenergético (Brasil)
A8: Safra | C8: Área de Plantio | D8: Área colhida
C9: (Milhões de hectares)
A10: 16/17 | C10: 1.0182239 | D10: 9.0492
A11: 17/18 | C11: 1.203308 | D11: 8.7295
A12: 18/19 | C12: 1.2705 | D12: 8.5892
A13: 19/20 | C13: 1.3318 | D13: 8.44202
A14: 20/21 | C14: 1.1774 | D14: 8.6161
A15: 21/22 | C15: 1.2042504 | D15: 8.345028
A16: 22/23 | C16: 1.3046527 | D16: 8.292726
A17: 23/24 | C17: 1.3016153 | D17: 8.3339285
A18: 24/25 | C18: 1.2363641 | D18: 8.7663255
A19: 25/26 | C19: 1.198854 | D19: 8.9546132
C22: Fonte: EPE a partir de (CONAB, 2026a, 2026c)

Sheet A-2
A1: Voltar p/ Índice
E3: =Índice!AF3 -> Análise de Conjuntura - Ano Base 2025
C6: =Índice!Q10 -> Gráfico 2 - Participação da cana planta na área total colhida e produtividade (Brasil)
A8: Safra | C8: % de cana planta | D8: Perfil desejado | E8: Expansão | F8: Renovação | G8: Produtividade
C9: (%) | G9: (TCH)
A10: 16/17 | C10: 0.1041687 | D10: 0.18 | E10: 0.021053374 | F10: 0.083115325 | G10: 72.623
A11: 17/18 | C11: 0.10982186 | D11: 0.18 | E11: 0.018192917 | F11: 0.091628943 | G11: 72.543
A12: 18/19 | C12: 0.13652974 | D12: 0.18 | E12: 0.023789247 | F12: 0.11274049 | G12: 72.234
A13: 19/20 | C13: 0.15175232 | D13: 0.18 | E13: 0.026399862 | F13: 0.12535246 | G13: 76.133
A14: 20/21 | C14: 0.16279212 | D14: 0.18 | E14: 0.023833785 | F14: 0.13895834 | G14: 75.965
A15: 21/22 | C15: 0.15329719 | D15: 0.18 | E15: 0.020327617 | F15: 0.13296958 | G15: 69.354845
A16: 22/23 | C16: 0.14807761 | D16: 0.18 | E16: 0.016538383 | F16: 0.13153923 | G16: 73.655487
A17: 23/24 | C17: 0.18277058 | D17: 0.18 | E17: 0.035842752 | F17: 0.14692783 | G17: 85.579583
A18: 24/25 | C18: 0.15888602 | D18: 0.18 | E18: 0.023682091 | F18: 0.13520393 | G18: 77.222672
A19: 25/26 | C19: 0.15902376 | D19: 0.18 | E19: 0.045768583 | F19: 0.11325517 | G19: 75.18447
C21: Fonte: EPE a partir de (CONAB, 2026a, 2026b)

Sheet A-3
A1: Voltar p/ Índice
E3: =Índice!AF3 -> Análise de Conjuntura - Ano Base 2025
C6: =Índice!Q14 -> Gráfico 3 - Idade média do canavial (Brasil e regiões)
A8: Safra | C8: Brasil | D8: Centro-Sul | E8: Norte-Nordeste
C9: (Nº de cortes)
A10: 16/17 | C10: 3.9146339 | D10: 3.837193 | E10: 4.5999195
A11: 17/18 | C11: 3.8750313 | D11: 3.7979133 | E11: 4.5528514
A12: 18/19 | C12: 3.9248422 | D12: 3.8549217 | E12: 4.5430929
A13: 19/20 | C13: 3.783699 | D13: 3.6994612 | E13: 4.4985724
A14: 20/21 | C14: 3.7144551 | D14: 3.6390878 | E14: 4.3643383
A15: 21/22 | C15: 3.6421879 | D15: 3.5827522 | E15: 4.2132906
A16: 22/23 | C16: 3.6126942 | D16: 3.526767 | E16: 4.301818
A17: 23/24 | C17: 3.5180931 | D17: 3.4224349 | E17: 4.2781649
A18: 24/25 | C18: 3.5611798 | D18: 3.4702169 | E18: 4.3121781
A19: 25/26 | C19: 3.5588493 | D19: 3.4702169 | E19: 4.3121781
C21: Fonte: EPE a partir de (CONAB, 2024, 2026b)

Sheet A-4
A1: Voltar p/ Índice
E3: =Índice!AF3 -> Análise de Conjuntura - Ano Base 2025
C6: =Índice!Q18 -> Gráfico 4 - Colheita e Plantio mecanizados x Rendimento da cana
A8: Safra | C8: Colheita mecanizada (Brasil) | D8: Colheita mecanizada (C-Sul) | E8: Plantio mecanizado (C-Sul) | F8: Rendimento de ATR (Brasil)
C9: (%) | F9: Kg ATR / tc
A10: 08/09 | C10: 0.371 | D10: 0.428 | F10: 138.34973
A11: 09/10 | C11: 0.47583485 | D11: 0.54867173 | E11: 0.326 | F11: 130.34795
A12: 10/11 | C12: 0.55074104 | D12: 0.6224863 | E12: 0.351 | F12: 139.95975
A13: 11/12 | C13: 0.63702106 | D13: 0.71634841 | E13: 0.478 | F13: 143.51031
A14: 12/13 | C14: 0.69166519 | D14: 0.7722216 | E14: 0.595 | F14: 137.44713
A15: 13/14 | C15: 0.7404 | D15: 0.8199 | E15: 0.707 | F15: 133.43366
A16: 14/15 | C16: 0.7677733 | D16: 0.84313991 | E16: 0.749 | F16: 136.52012
A17: 15/16 | C17: 0.85112436 | D17: 0.92969265 | E17: 0.794 | F17: 131.44499
A18: 16/17 | C18: 0.897542 | D18: 0.94586947 | E18: 0.79 | F18: 134.59602
A19: 17/18 | C19: 0.912 | D19: 0.962 | E19: 0.785 | F19: 136.8
A20: 18/19 | C20: 0.916 | D20: 0.97 | E20: 0.735 | F20: 138.4
A21: 19/20 | C21: 0.91787169 | D21: 0.97653869 | E21: 0.695 | F21: 139.28994
A22: 20/21 | C22: 0.89424383 | D22: 0.97103221 | E22: 0.629 | F22: 144.06486
... A27: 25/26 | C27: 0.924 | D27: 0.986 | E27: 0.77019 | F27: 137.88
C29: Fonte: EPE a partir de (CONAB, 2026c), (CTC, 2026), (DATAGRO, 2026b) e (UNICA, 2013, 2014, 2017).

Sheet A-5
A1: Voltar p/ Índice
E3: =Índice!AF3 -> Análise de Conjuntura - Ano Base 2025
C6: =Índice!Q22 -> Gráfico 5 - Histórico anual do processamento de cana e ATR
A8: Ano | C8: Cana processada | D8: ATR
C10: (Milhões de ton) | D10: (Milhões de ton)
A11: 2016 | C11: 671.46767 | D11: 90.376875
A12: 2017 | C12: 635.71372 | D12: 86.965636
A13: 2018 | C13: 608.52213 | D13: 84.219463
A14: 2019 | C14: 654.08202 | D14: 91.107043
A15: 2020 | C15: 662.68558 | D15: 95.469708
A16: 2021 | C16: 581.4456 | D16: 82.332697
A17: 2022 | C17: 595.3061 | D17: 82.586816
A18: 2023 | C18: 712.50607 | D18: 98.076461
A19: 2024 | C19: 686.2655 | D19: 96.228149
A20: 2025 | C20: 659.97501 | D20: 90.997355
C22: Fonte: EPE a partir de (MAPA, 2025)

Sheet A-6
A1: Voltar p/ Índice
E3: =Índice!AF3 -> Análise de Conjuntura - Ano Base 2025
C6: =Índice!Q26 -> Gráfico 6 - Área de plantio de milho por safra (Brasil)
A8: Safra | C8: 1ª Safra | D8: 2ª Safra | E8: 3ª Safra
C9: (Milhões de hectares)
A10: 08/09 | C10: 9.2705 | D10: 4.9013
A11: 09/10 | C11: 7.724 | D11: 5.2699
A12: 10/11 | C12: 7.6377 | D12: 6.1684
A13: 11/12 | C13: 7.5585 | D13: 7.6196
A14: 12/13 | C14: 6.7831 | D14: 9.0462
A15: 13/14 | C15: 6.6177 | D15: 9.2112
A16: 14/15 | C16: 6.1423 | D16: 9.5506
A17: 15/16 | C17: 5.4403 | D17: 10.3144
A18: 16/17 | C18: 5.4825 | D18: 12.1092
A19: 17/18 | C19: 5.0821 | D19: 11.5343
A20: 18/19 | C20: 4.1039 | D20: 12.878 | E20: 0.511
A21: 19/20 | C21: 4.2358 | D21: 13.7559 | E21: 0.5356
A22: 20/21 | C22: 4.3484 | D22: 14.9996 | E22: 0.5956
A23: 21/22 | C23: 4.5425 | D23: 16.3786 | E23: 0.6608
A24: 22/23 | C24: 4.444 | D24: 17.1927 | E24: 0.6325
A25: 23/24 | C25: 3.9701 | D25: 16.4378 | E25: 0.6501
A26: 24/25 | C26: 3.7726 | D26: 17.4303 | E26: 0.6351
C28: Fonte: EPE a partir de (CONAB, 2026e)

Sheet A-7
A1: Voltar p/ Índice
E3: =Índice!AF3 -> Análise de Conjuntura - Ano Base 2025
C6: =Índice!Q30 -> Gráfico 7 - Produtividade de milho por safra (Brasil)
A8: Safra | C8: 1ª Safra | D8: 2ª Safra | E8: 3ª Safra | F8: Produtividade Total
C9: (Milhões de hectares)
A10: 18/19 | C10: 6.2493266 | D10: 5.6823745 | E10: 2.384871 | F10: 5.7190574
A11: 19/20 | C11: 6.064912 | D11: 5.4556158 | E11: 3.3046103 | F11: 5.5370448
A12: 20/21 | C12: 5.6863275 | D12: 4.0495481 | E12: 2.7342957 | F12: 4.3671441
A13: 21/22 | C13: 5.4991084 | D13: 5.2581234 | E13: 3.2867736 | F13: 5.9219352
A14: 22/23 | C14: 6.1595837 | D14: 5.9539865 | E14: 3.4062055 | F14: 5.9226518
A15: 23/24 | C15: 5.7837294 | D15: 5.4787009 | E15: 3.8684195 | F15: 5.486496
A16: 24/25 | C16: 6.609655 | D16: 6.4960671 | E16: 4.7136128 | F16: 6.4638519
C18: Fonte: EPE a partir de (CONAB, 2026a, 2026d)

Sheet A-8
A1: Voltar p/ Índice
E3: =Índice!AF3 -> Análise de Conjuntura - Ano Base 2025
C6: =Índice!Q34 -> Gráfico 8 - Evolução da produção de milho e distribuição por safra
A8: Ano | C8: 1ª Safra | D8: 2ª Safra | E8: 3ª Safra | F8: Produção Total (eixo esquerdo)
C9: (Milhões de toneladas) | F9: (%)
A10: 03/04 | C10: 31.5542 | D10: 10.5743 | E10: 0 | F10: 42.1285
A11: 04/05 | C11: 27.2984 | D11: 7.7083 | E11: 0 | F11: 35.0067
A12: 05/06 | C12: 31.809 | D12: 10.7059 | E12: 0 | F12: 42.5149
A13: 06/07 | C13: 36.5967 | D13: 14.773 | E13: 0 | F13: 51.3697
A14: 07/08 | C14: 39.9641 | D14: 18.6881 | E14: 0 | F14: 58.6522
A15: 08/09 | C15: 33.6549 | D15: 17.349 | E15: 0 | F15: 51.0039
A16: 09/10 | C16: 34.0792 | D16: 21.9388 | E16: 0 | F16: 56.018
A17: 10/11 | C17: 34.9467 | D17: 22.4603 | E17: 0 | F17: 57.407
A18: 11/12 | C18: 33.8671 | D18: 39.1127 | E18: 0 | F18: 72.9798
A19: 12/13 | C19: 34.576708 | D19: 46.9289 | E19: 0 | F19: 81.505608
A20: 13/14 | C20: 31.65261 | D20: 48.3991 | E20: 0 | F20: 80.05171
A21: 14/15 | C21: 30.082012 | D21: 54.5905 | E21: 0 | F21: 84.672512
... A31: 24/25 | C31: 24.9358 | D31: 113.2284 | E31: 2.9936 | F31: 141.1578
C33: Fonte: EPE a partir de (CONAB, 2026a).

Sheet A-9
A1: Voltar p/ Índice
E3: =Índice!AF3 -> Análise de Conjuntura - Ano Base 2025
C6: =Índice!Q38 -> Gráfico 9 - Evolução da destinação do milho no Brasil
A8: Ano | C8: Exportação líquida | D8: Consumo interno (outros) | E8: Consumo interno (etanol)
C9: (Milhões de toneladas)
A10: 17/18 | C10: 22.841539 | D10: 57.116818 | E10: 1.9315818
A11: 18/19 | C11: 39.4776 | D11: 58.555923 | E11: 3.3814775
A12: 19/20 | C12: 33.439507 | D12: 61.257346 | E12: 5.7640536
A13: 20/21 | C13: 17.72502 | D13: 63.563602 | E13: 7.6049984
A14: 21/22 | C14: 44.0152 | D14: 64.869271 | E14: 9.6653286
A15: 22/23 | C15: 53.3212 | D15: 66.337746 | E15: 13.261154
A16: 23/24 | C16: 36.8562 | D16: 66.72585 | E16: 17.26965
A17: 24/25 | C17: 39.7857 | D17: 69.111803 | E17: 21.452997
C19: Fonte: EPE a partir de (CONAB, 2026a).

Sheet A-10
A1: Voltar p/ Índice
E3: =Índice!AF3 -> Análise de Conjuntura - Ano Base 2025
C6: =Índice!Q42 -> Gráfico 10 - Processamento mensal de milho para a produção de etanol, por unidade da federação
A8: Ano | C8: Mato Grosso | D8: Mato Grosso do Sul | E8: Goiás | F8: Paraná | G8: São Paulo | H8: Pará | I8: Maranhão
C9: (Milhões de toneladas)
A10: 42736 | C10: 0.033122457 | D10: 0 | E10: 0.01231508 | F10: 0 | G10: 0 | H10: 0 | I10: 0
A11: 42767 | C11: 0.02709879 | D11: 0 | E11: 0.031894077 | F11: 0 | G11: 0 | H11: 0 | I11: 0
A12: 42795 | C12: 0.025266586 | D12: 0 | E12: 0.033147097 | F12: 0 | G12: 0 | H12: 0 | I12: 0
A13: 42826 | C13: 0.01890533 | D13: 0 | E13: 0.017815075 | F13: 0 | G13: 0 | H13: 0 | I13: 0
A14: 42856 | C14: 0.016617136 | D14: 0 | E14: 0.022378363 | F14: 0 | G14: 0 | H14: 0 | I14: 0
A15: 42887 | C15: 0.01684719 | D15: 0 | E15: 0.025487749 | F15: 0 | G15: 0 | H15: 0 | I15: 0
A16: 42917 | C16: 0.046885198 | D16: 0 | E16: 0.039891804 | F16: 0 | G16: 0 | H16: 0 | I16: 0
A17: 42948 | C17: 0.041033886 | D17: 0 | E17: 0.028195501 | F17: 0 | G17: 0 | H17: 0 | I17: 0
A18: 42979 | C18: 0.080970319 | D18: 0 | E18: 0.023263936 | F18: 0 | G18: 0.003264964 | H18: 0 | I18: 0
A19: 43009 | C19: 0.082941695 | D19: 0 | E19: 0.029497196 | F19: 0 | G19: 0.003038663 | H19: 0 | I19: 0
A20: 43040 | C20: 0.087093764 | D20: 0 | E20: 0.03027536 | F20: 0 | G20: 0.003362447 | H20: 0 | I20: 0
A21: 43070 | C21: 0.12700848 | D21: 0 | E21: 0.040112222 | F21: 0 | G21: 0.003053095 | H21: 0 | I21: 0
... A117: 45992 | C117: 1.2614667 | D117: 0.41194106 | E117: 0.22220142 | F117: 0.005492212 | G117: 0.000921026 | H117: 0.00267 | I117: 0.17177084
C119: Fonte: EPE a partir de (ANP, 2026e).

Sheet A-11
A1: Voltar p/ Índice
E3: =Índice!AF3 -> Análise de Conjuntura - Ano Base 2025
C6: =Índice!_Ref65601466 -> Gráfico 11- Preço médio de milho total (Brasil)
A8: Ano | C8: Preço médio
C9: (R$/saca de 60 kg à vista)
A10: 2005 | C10: 18.379167
A11: 2006 | C11: 17.943333
A12: 2007 | C12: 23.824167
A13: 2008 | C13: 25.543333
A14: 2009 | C14: 21.0375
A15: 2010 | C15: 21.525
A16: 2011 | C16: 30.335
A17: 2012 | C17: 29.844167
A18: 2013 | C18: 27.079167
A19: 2014 | C19: 27.011667
A20: 2015 | C20: 29.081667
A21: 2016 | C21: 44.406667
... A30: 2025 | C30: 71.995833
C32: Fonte: EPE a partir de (CEPEA/ESALQ, 2026).

Sheet A-12
A1: Voltar p/ Índice
E3: =Índice!AF3 -> Análise de Conjuntura - Ano Base 2025
C6: =Índice!Q42 -> Gráfico 10 - Processamento mensal de milho para a produção de etanol, por unidade da federação
A8: Ano | C8: Anidro | D8: Hidratado | E8: Total
C9: (Bilhões de litros)
A10: 2013 | C10: 0.003332 | D10: 0.007184 | E10: 0.010516
A11: 2014 | C11: 0.006312 | D11: 0.064627 | E11: 0.070939
A12: 2015 | C12: 0.013147 | D12: 0.108095 | E12: 0.121242
A13: 2016 | C13: 0.034553 | D13: 0.166205 | E13: 0.200758
A14: 2017 | C14: 0.07783 | D14: 0.33494 | E14: 0.41277
A15: 2018 | C15: 0.182293 | D15: 0.537943 | E15: 0.720236
A16: 2019 | C16: 0.39849 | D16: 0.931673 | E16: 1.330163
A17: 2020 | C17: 0.636159 | D17: 1.793994 | E17: 2.430153
A18: 2021 | C18: 0.903394 | D18: 2.392992 | E18: 3.296386
A19: 2022 | C19: 1.521221 | D19: 2.62018 | E19: 4.141401
A20: 2023 | C20: 2.302324 | D20: 3.485386 | E20: 5.78771
A21: 2024 | C21: 2.563352 | D21: 5.125859 | E21: 7.689211
A22: 2025 | C22: 3.713422 | D22: 5.822304 | E22: 9.535726
C24: Fonte: EPE a partir de (UNICA, 2025)

Sheet A-13
A1: Voltar p/ Índice
E2: =Índice!AF3 -> Análise de Conjuntura - Ano Base 2025
C5: =Índice!Q54 -> Gráfico 13 - Produção brasileira de etanol total (da cana e do milho)
A7: Ano | C7: Anidro de milho | D7: Anidro de cana | E7: Hidratado de milho | F7: Hidratado de cana | G7: Total
C8: (Bilhões de litros)
A9: 2013 | C9: 0.003332 | D9: 11.702677 | E9: 0.007184 | F9: 15.995323 | G9: 27.708516
A10: 2014 | C10: 0.006312 | D10: 11.703633 | E10: 0.064627 | F10: 16.774964 | G10: 28.549536
A11: 2015 | C11: 0.013147 | D11: 11.243094 | E11: 0.108095 | F11: 18.933468 | G11: 30.297804
A12: 2016 | C12: 0.034553 | D12: 11.148497 | E12: 0.166205 | F12: 16.975192 | G12: 28.324447
A13: 2017 | C13: 0.07783 | D13: 11.014103 | E13: 0.33494 | F13: 16.261701 | G13: 27.688574
A14: 2018 | C14: 0.182293 | D14: 9.050224 | E14: 0.537943 | F14: 22.556885 | G14: 32.327345
A15: 2019 | C15: 0.39849 | D15: 10.326433 | E15: 0.931673 | F15: 24.377492 | G15: 36.034088
A16: 2020 | C16: 0.636159 | D16: 9.361449 | E16: 1.793994 | F16: 20.824888 | G16: 32.61649
A17: 2021 | C17: 0.903394 | D17: 10.210014 | E17: 2.392992 | F17: 16.37008 | G17: 29.87648
A18: 2022 | C18: 1.521221 | D18: 10.741172 | E18: 2.62018 | F18: 15.753995 | G18: 30.636568
A19: 2023 | C19: 2.302324 | D19: 11.56721 | E19: 3.485386 | F19: 17.97176 | G19: =SUM(C19:F19) -> 35.32668
A20: 2024 | C20: 2.563352 | D20: 10.412781 | E20: 5.125859 | F20: 19.242034 | G20: =SUM(C20:F20) -> 37.344026
A21: 2025 | C21: 3.713422 | D21: 9.58141 | E21: 5.822304 | F21: 17.125852 | G21: =SUM(C21:F21) -> 36.242988
C23: Fonte: EPE a partir de (MAPA, 2026b) e (UNICA, 2025).

Sheet A-14
A1: Voltar p/ Índice
E3: =Índice!AF3 -> Análise de Conjuntura - Ano Base 2025
C6: =Índice!Q58 -> Gráfico 14 - Produção mensal de etanol de cana e de milho
A8: Mês | C8: Etanol Total | D8: Etanol Milho | E8: Etanol Cana | F8: % Etanol de milho/ Produção total
C9: (Bilhões de litros) | F9: (%)
A10: 43466 | C10: 1.225948 | D10: 0.096626 | E10: 1.129322 | F10: 0.078817372
A11: 43497 | C11: 0.227001 | D11: 0.077805 | E11: 0.149196 | F11: 0.34275179
A12: 43525 | C12: 0.523845 | D12: 0.09914 | E12: 0.424705 | F12: 0.18925446
A13: 43556 | C13: 2.32396 | D13: 0.100639 | E13: 2.223321 | F13: 0.043304962
A14: 43586 | C14: 4.372946 | D14: 0.102538 | E14: 4.270408 | F14: 0.023448266
A15: 43617 | C15: 4.178877 | D15: 0.091381 | E15: 4.087496 | F15: 0.021867358
A16: 43647 | C16: 5.02648 | D16: 0.092034 | E16: 4.934446 | F16: 0.018309831
A17: 43678 | C17: 5.26771 | D17: 0.069598 | E17: 5.198112 | F17: 0.013212193
A18: 43709 | C18: 4.837763 | D18: 0.147889 | E18: 4.689874 | F18: 0.030569708
A19: 43739 | C19: 4.805704 | D19: 0.133396 | E19: 4.672308 | F19: 0.027757848
A20: 43770 | C20: 2.526411 | D20: 0.148665 | E20: 2.377746 | F20: 0.058844345
A21: 43800 | C21: 0.717443 | D21: 0.170452 | E21: 0.546991 | F21: 0.23758264
... A93: 45992 | C93: 1.738695 | D93: 0.929633 | E93: 0.809062 | F93: 0.53467284
C95: Fonte: EPE a partir de (MAPA, 2026b)

Sheet A-15
A1: Voltar p/ Índice
F3: =Índice!AF3 -> Análise de Conjuntura - Ano Base 2025
C6: =Índice!Q62 -> Gráfico 15 - Evolução mensal do estoque físico de etanol
A8: Mês | C8: Anidro 2023 | D8: Hidratado 2023 | E8: Total 2023 | F8: Anidro 2024 | G8: Hidratado 2024 | H8: Total 2024 | I8: Anidro 2025 | J8: Hidratado 2025 | K8: Total 2025 | L8: Média Etanol
C9: (Bilhões de litros)
A10: jan | C10: 2.525162 | D10: 3.412514 | E10: 5.937676 | F10: 3.260738 | G10: 4.497756 | H10: 7.758494 | I10: 2.975779 | J10: 3.902103 | K10: 6.877882 | L10: 6.8580173
A11: fev | C11: 1.745728 | D11: 2.450803 | E11: 4.196531 | F11: 2.384176 | G11: 3.138903 | H11: 5.523079 | I11: 2.16038 | J11: 2.692883 | K11: 4.853263 | L11: 4.8576243
A12: mar | C12: 0.99069 | D12: 1.426925 | E12: 2.417615 | F12: 1.305913 | G12: 1.724446 | H12: 3.030359 | I12: 1.151966 | J12: 1.668658 | K12: 2.820624 | L12: 2.7561993
A13: abr | C13: 0.715861 | D13: 1.356087 | E13: 2.071948 | F13: 0.90728 | G13: 1.608086 | H13: 2.515366 | I13: 0.593341 | J13: 1.011862 | K13: 1.605203 | L13: 2.0641723
A14: mai | C14: 1.290895 | D14: 2.281354 | E14: 3.572249 | F14: 1.475152 | G14: 2.184041 | H14: 3.659193 | I14: 0.918969 | J14: 1.500479 | K14: 2.419448 | L14: 3.2169633
A15: jun | C15: 1.880686 | D15: 2.918892 | E15: 4.799578 | F15: 2.267223 | G15: 3.123241 | H15: 5.390464 | I15: 1.329093 | J15: 1.976041 | K15: 3.305134 | L15: 4.498392
A16: jul | C16: 2.664197 | D16: 4.44468 | E16: 7.108877 | F16: 2.985371 | G16: 4.138579 | H16: 7.12395 | I16: 2.016729 | J16: 2.863203 | K16: 4.879932 | L16: 6.3709197
A17: ago | C17: 3.374882 | D17: 5.505532 | E17: 8.880414 | F17: 3.601379 | G17: 5.328406 | H17: 8.929785 | I17: 2.774763 | J17: 3.882302 | K17: 6.657065 | L17: 8.1557547
A18: set | C18: 4.127199 | D18: 6.405757 | E18: 10.532956 | F18: 4.246355 | G18: 6.582474 | H18: 10.828829 | I18: 3.341749 | J18: 4.854531 | K18: 8.19628 | L18: 9.8526883
A19: out | C19: 4.567776 | D19: 6.75604 | E19: 11.323816 | F19: 4.543609 | G19: 7.001483 | H19: 11.545092 | I19: 3.742301 | J19: 5.430908 | K19: 9.173209 | L19: 10.680706
A20: nov | C20: 4.603671 | D20: 6.832962 | E20: 11.436633 | F20: 4.411364 | G20: 6.535594 | H20: 10.946958 | I20: 3.730181 | J20: 5.29131 | K20: 9.021491 | L20: 10.468361
A21: dez | C21: 4.177431 | D21: 5.9664 | E21: 10.143831 | F21: 3.804554 | G21: 5.437548 | H21: 9.242102 | I21: 3.147192 | J21: 4.244313 | K21: 7.391505 | L21: 8.9258127
C23: Fonte: EPE a partir de (MAPA, 2026b)

Sheet A-16
A1: Voltar p/ Índice
E3: =Índice!AF3 -> Análise de Conjuntura - Ano Base 2025
C6: =Índice!AF6 -> Gráfico 16 - Produção e exportação brasileira de açúcar
A8: Ano | C8: Produção | D8: Exportação | E8: Consumo interno + variação de estoque
C9: (Milhões de ton)
A10: 2016 | C10: 38.893153 | D10: 28.930956 | E10: 9.960222
A11: 2017 | C11: 38.121884 | D11: 28.701774 | E11: 9.419886
A12: 2018 | C12: 28.502085 | D12: 21.260187 | E12: 7.2418978
A13: 2019 | C13: 29.951239 | D13: 17.889032 | E13: 12.062207
A14: 2020 | C14: 41.517871 | D14: 30.635763 | E14: 10.882108
A15: 2021 | C15: 35.113206 | D15: 27.254957 | E15: 7.8582486
A16: 2022 | C16: 36.320263 | D16: 28.345873 | E16: 7.9743904
A17: 2023 | C17: 45.765077 | D17: 31.417264 | E17: 14.347813
A18: 2024 | C18: 44.346137 | D18: 38.344872 | E18: 6.0012647
A19: 2025 | C19: 43.483097 | D19: 33.825203 | E19: 9.6578937
C21: Fonte: EPE a partir de (MAPA, 2026b)

Sheet A-17
A1: Voltar p/ Índice
E2: =Índice!AF3 -> Análise de Conjuntura - Ano Base 2025
C5: =Índice!AF10 -> Gráfico 17 - Preços internacionais do açúcar VHP e refinado
A7: Mês | C7: Açúcar VHP | D7: Açúcar refinado | E7: Média VHP | F7: Média refinado
C8: (cents/lb)
A9: 42005 | C9: 15.06 | D9: 17.85
A10: 42036 | C10: 14.52 | D10: 17.44
A11: 42064 | C11: 12.84 | D11: 16.63
A12: 42095 | C12: 12.93 | D12: 16.6
A13: 42125 | C13: 12.7 | D13: 16.57
A14: 42156 | C14: 11.75 | D14: 16
A15: 42186 | C15: 11.88 | D15: 16.23
A16: 42217 | C16: 10.67 | D16: 15.57
A17: 42248 | C17: 11.32 | D17: 15.93
A18: 42278 | C18: 14.14 | D18: 17.59
A19: 42309 | C19: 14.89 | D19: 18.25
A20: 42339 | C20: 15 | D20: 18.62
... A104: 44896 | C104: 20.021429 | D104: 24.911549
A105: 44927 | C105: 19.949 | D105: 24.909173 | E105: =AVERAGE($C$105:$C$116) -> 24.054359 | F105: =AVERAGE($D$105:$D$116) -> 30.052276
A106: 44958 | C106: 21.403158 | D106: 25.620067 | E106: =AVERAGE($C$105:$C$116) -> 24.054359 | F106: =AVERAGE($D$105:$D$116) -> 30.052276
A107: 44986 | C107: 20.961739 | D107: 26.934986 | E107: =AVERAGE($C$105:$C$116) -> 24.054359 | F107: =AVERAGE($D$105:$D$116) -> 30.052276
A108: 45017 | C108: 24.633158 | D108: 30.652827 | E108: =AVERAGE($C$105:$C$116) -> 24.054359 | F108: =AVERAGE($D$105:$D$116) -> 30.052276
A109: 45047 | C109: 25.745909 | D109: 32.08133 | E109: =AVERAGE($C$105:$C$116) -> 24.054359 | F109: =AVERAGE($D$105:$D$116) -> 30.052276
A110: 45078 | C110: 24.682857 | D110: 30.487905 | E110: =AVERAGE($C$105:$C$116) -> 24.054359 | F110: =AVERAGE($D$105:$D$116) -> 30.052276
A111: 45108 | C111: 24.0425 | D111: 30.47416 | E111: =AVERAGE($C$105:$C$116) -> 24.054359 | F111: =AVERAGE($D$105:$D$116) -> 30.052276
A112: 45139 | C112: 24.193043 | D112: 31.585404 | E112: =AVERAGE($C$105:$C$116) -> 24.054359 | F112: =AVERAGE($D$105:$D$116) -> 30.052276
A113: 45170 | C113: 26.6015 | D113: 32.780809 | E113: =AVERAGE($C$105:$C$116) -> 24.054359 | F113: =AVERAGE($D$105:$D$116) -> 30.052276
A114: 45200 | C114: 26.903636 | D114: 32.816508 | E114: =AVERAGE($C$105:$C$116) -> 24.054359 | F114: =AVERAGE($D$105:$D$116) -> 30.052276
A115: 45231 | C115: 27.31381 | D115: 33.569066 | E115: =AVERAGE($C$105:$C$116) -> 24.054359 | F115: =AVERAGE($D$105:$D$116) -> 30.052276
A116: 45261 | C116: 22.222 | D116: 28.715079 | E116: =AVERAGE($C$105:$C$116) -> 24.054359 | F116: =AVERAGE($D$105:$D$116) -> 30.052276
A117: 45292 | C117: 22.61 | D117: 29.06 | E117: =AVERAGE($C$117:$C$128) -> 20.76 | F117: =AVERAGE($D$117:$D$128) -> 26.008333
A118: 45323 | C118: 23.36 | D118: 28.82 | E118: =AVERAGE($C$117:$C$128) -> 20.76 | F118: =AVERAGE($D$117:$D$128) -> 26.008333
A119: 45352 | C119: 21.73 | D119: 28.21 | E119: =AVERAGE($C$117:$C$128) -> 20.76 | F119: =AVERAGE($D$117:$D$128) -> 26.008333
A120: 45383 | C120: 20.65 | D120: 26.66 | E120: =AVERAGE($C$117:$C$128) -> 20.76 | F120: =AVERAGE($D$117:$D$128) -> 26.008333
A121: 45413 | C121: 18.82 | D121: 25.16 | E121: =AVERAGE($C$117:$C$128) -> 20.76 | F121: =AVERAGE($D$117:$D$128) -> 26.008333
A122: 45444 | C122: 19.18 | D122: 25.4 | E122: =AVERAGE($C$117:$C$128) -> 20.76 | F122: =AVERAGE($D$117:$D$128) -> 26.008333
A123: 45474 | C123: 19.3 | D123: 24.91 | E123: =AVERAGE($C$117:$C$128) -> 20.76 | F123: =AVERAGE($D$117:$D$128) -> 26.008333
A124: 45505 | C124: 18.42 | D124: 23.7 | E124: =AVERAGE($C$117:$C$128) -> 20.76 | F124: =AVERAGE($D$117:$D$128) -> 26.008333
A125: 45536 | C125: 20.69 | D125: 24.9 | E125: =AVERAGE($C$117:$C$128) -> 20.76 | F125: =AVERAGE($D$117:$D$128) -> 26.008333
A126: 45566 | C126: 22.36 | D126: 25.86 | E126: =AVERAGE($C$117:$C$128) -> 20.76 | F126: =AVERAGE($D$117:$D$128) -> 26.008333
...

Sheet A-18
A1: Voltar p/ Índice
E2: =Índice!AF3 -> Análise de Conjuntura - Ano Base 2025
C5: =Índice!AF14 -> Gráfico 18 - Mix e preços do açúcar e etanol hidratado (c/CBIO)
A7: Mês/ano | C7: Açúcar VHP (Contrato nº11) | D7: Hidratado | E7: Hidratado (c/ CBIO) | F7: Mix açúcar (%)
C8: (cents/lb) | F8: (%)
A9: 43466 | C9: 12.7 | D9: 16.969811 | E9: 16.969811 | F9: 0.36263217
A10: 43497 | C10: 12.94 | D10: 17.843606 | E10: 17.843606 | F10: 0.31733491
A11: 43525 | C11: 12.47 | D11: 18.318065 | E11: 18.318065 | F11: 0.15616794
A12: 43556 | C12: 12.55 | D12: 18.420865 | E12: 18.420865 | F12: 0.27988585
A13: 43586 | C13: 11.82 | D13: 16.277892 | E13: 16.277892 | F13: 0.3474697
A14: 43617 | C14: 12.44 | D14: 16.546752 | E14: 16.546752 | F14: 0.3505948
A15: 43647 | C15: 12.15 | D15: 17.499624 | E15: 17.499624 | F15: 0.36483929
A16: 43678 | C16: 11.56 | D16: 17.056795 | E16: 17.056795 | F16: 0.35429956
A17: 43709 | C17: 11.16 | D17: 16.443953 | E17: 16.443953 | F17: 0.34440607
A18: 43739 | C18: 12.46 | D18: 17.432409 | E18: 17.432409 | F18: 0.34351833
A19: 43770 | C19: 12.69 | D19: 18.199451 | E19: 18.199451 | F19: 0.29118861
A20: 43800 | C20: 13.34 | D20: 19.164184 | E20: 19.164184 | F20: 0.32620613
... A92: 45992 | C92: 14.922 | D92: 21.105511 | E92: 21.34503 | F92: 0.23612079
C94: Fonte: EPE a partir de (BC, 2026; CEPEA/ESALQ, 2026b; EPE, 2026; MAPA, 2026b; UDOP, 2024; USDA, 2026b)

Sheet A-19
A1: Voltar p/ Índice
E2: =Índice!AF3 -> Análise de Conjuntura - Ano Base 2025
C5: =Índice!AF18 -> Gráfico 19 - Mix de produção (açúcar x etanol)
A7: Safra | C7: Açúcar | D7: Anidro | E7: Hidratado
C8: (% ATR)
A9: 15/16 | C9: 40.427729 | D9: 22.519522 | E9: 37.059237
A10: 16/17 | C10: 45.906515 | D10: 22.09578 | E10: 31.997704
A11: 17/18 | C11: 45.9 | D11: 22.420436 | E11: 31.7
A12: 18/19 | C12: 35.5 | D12: 19.2 | E12: 45.3
A13: 19/20 | C13: 34.929791 | D13: 19.946086 | E13: 45.124124
A14: 20/21 | C14: 45.91615 | D14: 17.44952 | E14: 36.634331
A15: 21/22 | C15: 45.493634 | D15: 21.862173 | E15: 32.644193
A16: 22/23 | C16: 46.132987 | D16: 23.662107 | E16: 30.204906
A17: 23/24 | C17: 47.416126 | D17: 23.124555 | E17: 29.459318
A18: 24/25 | C18: 48.223737 | D18: 18.728109 | E18: 33.048154
A19: 25/26 | C19: 50.013317 | D19: 19.121218 | E19: 30.865464
C21: Fonte: EPE a partir de (CONAB, 2026b, 2026c; DATAGRO, 2026b).

Sheet A-20
A1: Voltar p/ Índice
E3: =Índice!AF3 -> Análise de Conjuntura - Ano Base 2025
C6: =Índice!AF10 -> Gráfico 17 - Preços internacionais do açúcar VHP e refinado
A8: Ano | C8: Agrícola | D8: Açúcar | E8: Etanol | F8: Cogeração | G8: Total
C9: (Bilhões de reais)
A10: 2009 | C10: 1.6457114 | D10: 3.9441859 | E10: 8.4750529 | F10: 1.256558 | G10: 15.321508
A11: 2010 | C11: 2.1777931 | D11: 5.5274486 | E11: 7.703926 | F11: 1.5187992 | G11: 16.927967
A12: 2011 | C12: 1.9494787 | D12: 2.5023134 | E12: 6.3700815 | F12: 1.8507327 | G12: 12.672606
A13: 2012 | C13: 2.3733745 | D13: 2.2891963 | E13: 2.3815294 | F13: 1.3404213 | G13: 8.3845215
A14: 2013 | C14: 3.924342 | D14: 4.9946695 | E14: 3.8772506 | F14: 0.38324478 | G14: 13.179507
A15: 2014 | C15: 3.3673686 | D15: 4.0370469 | E15: 4.5701734 | F15: 0.20835929 | G15: 12.182948
A16: 2015 | C16: 1.4798396 | D16: 0.93513868 | E16: 1.7728055 | F16: 0.35720046 | G16: 4.5449842
A17: 2016 | C17: 1.6317924 | D17: 0.49453265 | E17: 0.73219098 | F17: 0.20933778 | G17: 3.0678538
A18: 2017 | C18: 1.6754367 | D18: 0.33659798 | E18: 0.45241145 | F18: 0.031250213 | G18: 2.4956963
A19: 2018 | C19: 1.3165188 | D19: 0.91654921 | E19: 0.30748602 | F19: 0.1332732 | G19: 2.6738272
A20: 2019 | C20: 0.98593983 | D20: 0.89404675 | E20: 0.44932025 | F20: 0.19525559 | G20: 2.5245624
A21: 2020 | C21: 0.67237579 | D21: 0.5263031 | E21: 0.55070514 | F21: 0.087172593 | G21: 1.8365566
... A26: 2025 | C26: 0.67623992 | D26: 1.4148275 | E26: 2.5264162 | F26: 0.028515899 | G26: 4.6459995
C28: Fonte: EPE a partir de (BNDES, 2026)

Sheet A-21
A1: Voltar p/ Índice
E2: =Índice!AF3 -> Análise de Conjuntura - Ano Base 2025
C5: =Índice!AF26 -> Gráfico 21 - Licenciamento de veículos leves por categoria
A7: Ano | C7: Autos total | D7: CL total | E7: Veículos totais
C8: (Unidades)
A9: 2015 | C9: 2123009 | D9: 357523 | E9: 2480532
A10: 2016 | C10: 1688289 | D10: 300307 | E10: 1988596
A11: 2017 | C11: 1856584 | D11: 319400 | E11: 2175984
A12: 2018 | C12: 2102114 | D12: 373224 | E12: 2475338
A13: 2019 | C13: 2262073 | D13: 403510 | E13: 2665583
A14: 2020 | C14: 1615942 | D14: 338868 | E14: 1954810
A15: 2021 | C15: 1558467 | D15: 418663 | E15: 1977130
A16: 2022 | C16: 1576662 | D16: 383788 | E16: 1960450
A17: 2023 | C17: 1721400 | D17: 458879 | E17: 2180279
A18: 2024 | C18: 1948681 | D18: 538940 | E18: 2487621
A19: 2025 | C19: 1997264 | D19: 554937 | E19: 2552201
C21: Fonte: Elaboração própria a partir de (ANFAVEA, 2026b)

Sheet A-22
A1: Voltar p/ Índice
E2: =Índice!AF3 -> Análise de Conjuntura - Ano Base 2025
C5: =Índice!AF30 -> Gráfico 22 – Licenciamento de automóveis por porte em 2025
A7: Categoria | C7: Licenciamento
C8: (%)
A9: Hatch pequeno | C9: 0.245
A10: SUV | C10: 0.549
A11: Entrada | C11: 0.067
A12: Sedan pequeno | C12: 0.032
A13: Sedan médio | C13: 0.03
A14: Sedan compacto | C14: 0.061
A15: Outros | C15: 0.017
C17: Fonte: Elaboração própria a partir de (FENABRAVE, 2026)

Sheet A-23
A1: Voltar p/ Índice
E2: =Índice!AF3 -> Análise de Conjuntura - Ano Base 2025
C5: =Índice!_Ref44346475 -> Gráfico 23 - Depreciação dos veículos: convencionais (c) vs eletrificados (e)
A7: Categoria | C7: 2023 | D7: 2026 | E7: Depreciação
C8: (RS$ (2026)) | E8: (%)
A9: Hatch (c) | C9: 98225.467 | D9: 70370 | E9: 0.2836
A10: Hatch (e) | C10: 171644.63 | D10: 117950 | E10: 0.3128
A11: Sedan (c) | C11: 208098.64 | D11: 143359 | E11: 0.3111
A12: Sedan (e) | C12: 225275.18 | D12: 144263 | E12: 0.3596
A13: SUV (c) | C13: 223763.45 | D13: 146003 | E13: 0.3475
A14: SUV (e) | C14: 236372.95 | D14: 145156 | E14: 0.3859
C16: Fonte: Elaborado a partir de (ABVE, 2026c; FENABRAVE, 2024; FIPE, 2026).

Sheet A-24
A1: Voltar p/ Índice
E2: =Índice!AF3 -> Análise de Conjuntura - Ano Base 2025
C5: =Índice!AF38 -> Gráfico 24 - Licenciamento de motocicletas
A7: Ano | C7: Moto total
C8: (Unidades])
A9: 2015 | C9: 1224597
A10: 2016 | C10: 899793
A11: 2017 | C11: 851013
A12: 2018 | C12: 940108
A13: 2019 | C13: 1077234
A14: 2020 | C14: 915157
A15: 2021 | C15: 1156776
A16: 2022 | C16: 1361941
A17: 2023 | C17: 1582032
A18: 2024 | C18: 1876427
A19: 2025 | C19: 2197851
C21: Fonte: Elaboração própria a partir de (ABRACICLO, 2026)

Sheet A-25
A1: Voltar p/ Índice
E2: =Índice!AF3 -> Análise de Conjuntura - Ano Base 2025
C5: =Índice!AF42 -> Gráfico 25 - Faixas de idade de automóveis, comerciais leves e motocicletas em 2025
A7: Categoria | C7: 0 a 5 anos | D7: 6 a 10 anos | E7: 11 a 15 anos | F7: 16 a 20 anos | G7: mais de 20 anos
C8: (%)
A9: Auto | C9: 0.2261 | D9: 0.2062 | E9: 0.2649 | F9: 0.1486 | G9: 0.15
A10: CL | C10: 0.401 | D10: 0.2212 | E10: 0.2386 | F10: 0.0798 | G10: 0.06
A11: Moto | C11: 0.414 | D11: 0.1738 | E11: 0.2054 | F11: 0.1364 | G11: 0.07
C13: Fonte: EPE

Sheet A-26
A1: Voltar p/ Índice
F3: =Índice!AF3 -> Análise de Conjuntura - Ano Base 2025
C6: =Índice!AF50 -> Gráfico 27 - Participação de tecnologias no segmento de eletrificados
A8: Ano | C8: Auto HEV | D8: Auto HEV flex | E8: CL HEV | F8: CL HEV flex | G8: Auto PHEV | H8: CL PHEV | I8: Auto BEV | J8: CL BEV | K8: Participação eletrificados
C9: (nº de unidades) | K9: (%)
A10: 2018 | C10: 3789 | E10: 4 | G10: 176 | J10: 1 | K10: 0.002
A11: 2019 | C11: 11306 | E11: 13 | G11: 538 | J11: 1 | K11: 0.004
A12: 2020 | C12: 18886 | E12: 55 | G12: 801 | J12: 3 | K12: 0.01
A13: 2021 | C13: 1723 | D13: 18866 | E13: 7 | F13: 82 | G13: 11412 | H13: 49 | I13: 2839 | J13: 12 | K13: 0.018
A14: 2022 | C14: 1997 | D14: 21046 | E14: 2 | G14: 11501 | H14: 2 | I14: 7520 | J14: 937 | K14: 0.022
A15: 2023 | C15: 7862 | D15: 22235 | E15: 285 | F15: 1 | G15: 33047 | H15: 2 | I15: 18490 | J15: 820 | K15: 0.038
A16: 2024 | C16: 14422 | D16: 20426 | E16: 848 | G16: 63697 | H16: 313 | I16: 60169 | J16: 1446 | K16: 0.065
A17: 2025 | C17: 21667 | D17: 21323 | E17: 726 | G17: 98861 | H17: 1135 | I17: 79773 | J17: 411 | K17: 0.088
C19: Fonte: Elaboração própria a partir de (ABVE, 2026b).

Sheet A-27
A1: Voltar p/ Índice
E3: =Índice!AF3 -> Análise de Conjuntura - Ano Base 2025
C6: =Índice!AF50 -> Gráfico 27 - Participação de tecnologias no segmento de eletrificados
A8: Ano | C8: Participação HEV | D8: Participação PHEV | E8: Participação BEV
C9: (%)
A10: 2018 | C10: 0.955 | D10: 0.044 | E10: 0.001
A11: 2019 | C11: 0.955 | D11: 0.045 | E11: 0
A12: 2020 | C12: 0.959 | D12: 0.041 | E12: 0
A13: 2021 | C13: 0.591 | D13: 0.328 | E13: 0.081
A14: 2022 | C14: 0.536 | D14: 0.267 | E14: 0.197
A15: 2023 | C15: 0.367 | D15: 0.399 | E15: 0.234
A16: 2024 | C16: 0.221 | D16: 0.397 | E16: 0.382
A17: 2025 | C17: 0.195 | D17: 0.447 | E17: 0.358
C19: Fonte: EPE a partir de (CONAB, 2026a, 2026c)
A25: 1

Sheet A-28
A1: Voltar p/ Índice
E3: =Índice!AF3 -> Análise de Conjuntura - Ano Base 2025
C6: =Índice!AF54 -> Gráfico 28 - Evolução de postos de recarga de veículos elétricos no Brasil
A8: Mês/ano | C8: Eletropostos | D8: Total
C9: (nº de unidades)
A10: dez/21 | C10: 800 | D10: 800
A11: out/22 | C11: 2862 | D11: 2862
A12: dez/23 | C12: 4300 | D12: 4300
A13: nov/24 | C13: 12137 | D13: 12137
A14: ago/25 | C14: 16880 | D14: 16880
C16: Fonte: EPE a partir de (CONAB, 2026a, 2026c)

Sheet A-29
A1: Voltar p/ Índice
E3: =Índice!AF3 -> Análise de Conjuntura - Ano Base 2025
C6: =Índice!AF58 -> Gráfico 29 - Indicadores qualitativos de recarga de veículos elétricos no Brasil e em países selecionados
A8: País/região | C8: EV/EP | D8: kW/EV
C9: (nº de unidades)
A10: Brasil | C10: 23.5 | D10: 1
A11: Europa | C11: 11.3 | D11: 4.1
A12: Estados Unidos | C12: 33.6 | D12: 1.4
A13: China | C13: 9.9 | D13: 4.8
A14: Mundo | C14: 11.1 | D14: 4.1
C16: Fonte: EPE a partir de (CONAB, 2026a, 2026c)

Sheet A-30
A1: Voltar p/ Índice
E2: =Índice!$AF$3 -> Análise de Conjuntura - Ano Base 2025
C5: =Índice!AF62 -> Gráfico 30 - Demanda do ciclo Otto – Faixa de variação dos últimos 5 anos versus 2025
A7: Mês | C7: Faixa de variação 2021-2025 | E7: 2025
C8: lim. Sup. | D8: lim. Inf.
C9: (Milhões de litros)
A10: jan | C10: 5.9862923 | D10: 4.4476973 | E10: 5.9862923
A11: fev | C11: 5.3066652 | D11: 4.4098628 | E11: 5.3066652
A12: mar | C12: 5.6618597 | D12: 4.5336603 | E12: 5.6618597
A13: abr | C13: 5.9309464 | D13: 4.3051248 | E13: 5.9309464
A14: mai | C14: 5.8406801 | D14: 4.6393449 | E14: 5.8406801
A15: jun | C15: 5.6593688 | D15: 4.5704542 | E15: 5.6593688
A16: jul | C16: 5.8810031 | D16: 5.0402362 | E16: 5.8810031
A17: ago | C17: 5.8000539 | D17: 5.0052188 | E17: 5.8000539
A18: set | C18: 5.9818576 | D18: 4.8687426 | E18: 5.9818576
A19: out | C19: 6.2526029 | D19: 4.9232241 | E19: 6.2526029
A20: nov | C20: 5.9022142 | D20: 4.7023807 | E20: 5.9022142
A21: dez | C21: 6.6688399 | D21: 5.303596 | E21: 6.6688399
C23: Fonte: EPE a partir de (ANP, 2026b) ; (EPE, 2026a); (MAPA, 2026a).

Sheet A-31
A1: Voltar p/ Índice
E2: =Índice!$AF$3 -> Análise de Conjuntura - Ano Base 2025
C5: =Índice!_Ref65677600 -> Gráfico 31 - Demanda do ciclo Otto e participação dos diferentes combustíveis
A7: Ano | C7: Gasolina A | D7: Anidro | E7: Hidratado | F7: Total | G7: Gasolina A | H7: Anidro | I7: Hidratado
C8: (Milhões de m³ gas. equiv.) | G8: (%)
A9: 2015 | C9: 30.203736 | D9: 10.940056 | E9: 13.152108 | F9: =SUM(C9:E9) -> 54.2959 | G9: =C9/$F9 -> 0.55628023 | H9: =D9/$F9 -> 0.20148954 | I9: =E9/$F9 -> 0.24223023
A10: 2016 | C10: 31.40393 | D10: 11.10027 | E10: 10.915789 | F10: =SUM(C10:E10) -> 53.419989 | G10: =C10/$F10 -> 0.58786852 | H10: =D10/$F10 -> 0.20779244 | I10: =E10/$F10 -> 0.20433904
A11: 2017 | C11: 32.229158 | D11: 12.071566 | E11: 10.159986 | F11: =SUM(C11:E11) -> 54.46071 | G11: =C11/$F11 -> 0.59178734 | H11: =D11/$F11 -> 0.22165642 | I11: =E11/$F11 -> 0.18655625
A12: 2018 | C12: 27.996799 | D12: 10.214283 | E12: 14.08663 | F12: =SUM(C12:E12) -> 52.297712 | G12: =C12/$F12 -> 0.53533506 | H12: =D12/$F12 -> 0.19531033 | I12: =E12/$F12 -> 0.26935461
A13: 2019 | C13: 27.860477 | D13: 10.553621 | E13: 16.272811 | F13: =SUM(C13:E13) -> 54.686909 | G13: =C13/$F13 -> 0.50945423 | H13: =D13/$F13 -> 0.19298258 | I13: =E13/$F13 -> 0.29756319
A14: 2020 | C14: 26.151238 | D14: 9.77843 | E14: 13.884057 | F14: =SUM(C14:E14) -> 49.813725 | G14: =C14/$F14 -> 0.52498058 | H14: =D14/$F14 -> 0.19629991 | I14: =E14/$F14 -> 0.27871951
A15: 2021 | C15: 28.701663 | D15: 11.05256 | E15: 12.301612 | F15: =SUM(C15:E15) -> 52.055835 | G15: 0.55136304 | H15: 0.21232125 | I15: 0.23631571
A16: 2022 | C16: 31.418669 | D16: 12.197772 | E16: 11.861295 | F16: =SUM(C16:E16) -> 55.477736 | G16: 0.56632933 | H16: 0.21986788 | I16: 0.21380279
A17: 2023 | C17: 33.601691 | D17: 12.855315 | E17: 12.683317 | F17: =SUM(C17:E17) -> 59.140323 | G17: 0.56816888 | H17: 0.21736971 | I17: 0.2144614
A18: 2024 | C18: 32.266971 | D18: 12.357439 | E18: 16.502628 | F18: =SUM(C18:E18) -> 61.127038 | G18: 0.5278674 | H18: 0.20215995 | I18: 0.26997265
A19: 2025 | C19: 33.442377 | D19: 14.216866 | E19: 16.249199 | F19: =SUM(C19:E19) -> 63.908442 | G19: 0.52328575 | H19: 0.22245678 | I19: 0.25425747
C21: Fonte: EPE a partir de EPE (2026a)

Sheet A-32
A1: Voltar p/ Índice
E2: =Índice!AF3 -> Análise de Conjuntura - Ano Base 2025
C5: =Índice!AU10 -> Gráfico 32 - Demanda anual de etanol hidratado e gasolina C
A7: Ano | C7: Gasolina C | D7: Etanol hidratado
C8: (Bilhões de litros)
A9: 2015 | C9: 41.143792 | D9: 18.788726
A10: 2016 | C10: 42.5042 | D10: 15.593985
A11: 2017 | C11: 44.300724 | D11: 14.514265
A12: 2018 | C12: 38.211082 | D12: 20.123757
A13: 2019 | C13: 38.414098 | D13: 23.246873
A14: 2020 | C14: 35.929668 | D14: 19.834367
A15: 2021 | C15: 39.754223 | D15: 17.573731
A16: 2022 | C16: 43.616441 | D16: 16.944707
A17: 2023 | C17: 46.457006 | D17: 18.119024
A18: 2024 | C18: 44.62441 | D18: 23.575183
A19: 2025 | C19: 47.659243 | D19: 23.213141
C21: Fonte: EPE a partir de EPE (2024a).

Sheet A-33
A1: Voltar p/ Índice
E2: =Índice!AF3 -> Análise de Conjuntura - Ano Base 2025
C5: =Índice!AU14 -> Gráfico 33 - Produção, demanda e importação líquida de gasolina A
A7: Ano | C7: Produção | D7: Demanda | E7: Importação líquida
C8: (Bilhões de litros)
A9: 2015 | C9: 27.283 | D9: 30.204 | E9: 2.325
A10: 2016 | C10: 28.186574 | D10: 31.40393 | E10: 3.081741
A11: 2017 | C11: 28.337593 | D11: 32.229158 | E11: 4.010515
A12: 2018 | C12: 26.011192 | D12: 27.996799 | E12: 1.843512
A13: 2019 | C13: 25.394563 | D13: 27.860477 | E13: 2.874015
A14: 2020 | C14: 23.547238 | D14: 26.151238 | E14: 2.572736
A15: 2021 | C15: 28.099701 | D15: 28.701663 | E15: 0.96039
A16: 2022 | C16: 28.673702 | D16: 31.418669 | E16: 3.60029
A17: 2023 | C17: 30.638453 | D17: 33.601691 | E17: 2.510296
A18: 2024 | C18: 31.948731 | D18: 32.308933 | E18: 0.75959
A19: 2025 | C19: 31.372 | D19: 33.442 | E19: 2.265
C21: Fonte: EPE a partir de (EPE, 2026a).

Sheet A-34
A1: Voltar p/ Índice
E2: =Índice!AF3 -> Análise de Conjuntura - Ano Base 2025
C5: =Índice!AU18 -> Gráfico 34 - Preços de etanol hidratado
A7: Mês | C7: Consumidor | D7: Distribuidor | E7: Usina/SP
C8: (R$/litro - dez/25)
A9: 44197 | C9: 4.108435 | D9: 3.5002556 | E9: 2.6632767
A10: 44228 | C10: 4.3367703 | D10: 3.7229872 | E10: 2.8803898
A11: 44256 | C11: 5.0645313 | D11: 4.2955383 | E11: 3.3493437
A12: 44287 | C12: 4.7656828 | D12: 4.0103339 | E12: 3.1732157
A13: 44317 | C13: 5.2475317 | D13: 4.5736112 | E13: 3.6228889
A14: 44348 | C14: 5.3551751 | D14: 4.5938002 | E14: 3.5962822
A15: 44378 | C15: 5.2568217 | D15: 4.5269601 | E15: 3.5676931
A16: 44409 | C16: 5.395822 | D16: 4.7658421 | E16: 3.7787183
A17: 44440 | C17: 5.6048379 | D17: 4.9321787 | E17: 3.8955731
A18: 44470 | C18: 5.7600871 | D18: 5.0753886 | E18: 4.1906759
A19: 44501 | C19: 6.2845126 | D19: 5.4600347 | E19: 4.3224496
A20: 44531 | C20: 5.9649224 | D20: 5.0341179 | E20: 3.8860977
... A68: 45992 | C68: 4.422349 | D68: 3.736 | E68: 2.9083
C70: Fonte: EPE a partir de (ANP, 2026c; CEPEA/ESALQ, 2026b).

Sheet A-35
A1: Voltar p/ Índice
E2: =Índice!AF3 -> Análise de Conjuntura - Ano Base 2025
C5: =Índice!AU22 -> Gráfico 35 - Relação de preços entre o hidratado e a gasolina C (PE/PG)
A7: Ano | C7: PE/PG
C8: (%)
A9: 2016 | C9: 0.71032989
A10: 2017 | C10: 0.70737929
A11: 2018 | C11: 0.65965948
A12: 2019 | C12: 0.66366888
A13: 2020 | C13: 0.68940531
A14: 2021 | C14: 0.73154308
A15: 2022 | C15: 0.73454699
A16: 2023 | C16: 0.67958053
A17: 2024 | C17: 0.65354157
A18: 2025 | C18: 0.6874026
C20: Fonte: EPE a partir de (ANP, 2026c)

Sheet A-36
A1: Voltar p/ Índice
E2: =Índice!AF3 -> Análise de Conjuntura - Ano Base 2025
C5: =Índice!AF46 -> Gráfico 26 - Licenciamento de eletrificados e participação no licenciamento total
A7: Mês | C7: PE/PG | D7: PE | E7: PG
C8: (%) | D8: R$ const.(dez-25)/l
A9: 45658 | C9: 0.68387961 | D9: 4.2250042 | E9: 6.177994
A10: 45689 | C10: 0.69025475 | D10: 4.3932742 | E10: 6.3647141
A11: 45717 | C11: 0.68841538 | D11: 4.3678845 | E11: 6.3448387
A12: 45748 | C12: 0.68407362 | D12: 4.3272449 | E12: 6.3257005
A13: 45778 | C13: 0.6836547 | D13: 4.2962159 | E13: 6.2841898
A14: 45809 | C14: 0.67604849 | D14: 4.2161015 | E14: 6.2363891
A15: 45839 | C15: 0.67059789 | D15: 4.1679561 | E15: 6.2152685
A16: 45870 | C16: 0.67549685 | D16: 4.1826849 | E16: 6.1920033
A17: 45901 | C17: 0.68847087 | D17: 4.2631036 | E17: 6.1921601
A18: 45931 | C18: 0.69038599 | D18: 4.2839971 | E18: 6.2052327
A19: 45962 | C19: 0.69683458 | D19: 4.3051764 | E19: 6.178212
A20: 45992 | C20: 0.71353531 | D20: 4.422349 | E20: 6.1977798
C22: Fonte: EPE a partir de (ANP, 2026c).

Sheet A-37
A1: Voltar p/ Índice
E2: =Índice!AF3 -> Análise de Conjuntura - Ano Base 2025
C5: =Índice!AU30 -> Gráfico 37 - Diferenciação Tributária - ICMS “ad rem” (*) (gasolina C x etanol hidratado) 2025
A7: UFs | C7: Diferenciação 2025
C8: (%)
A9: MS | C9: 0.13621786
A10: SP | C10: 0.13232669
A11: PR | C11: 0.12232455
A12: MG | C12: 0.11755671
A13: DF | C13: 0.10803562
A14: GO | C14: 0.10507087
A15: PB | C15: 0.099500986
A16: BA | C16: 0.097054571
A17: PE | C17: 0.095714411
A18: PI | C18: 0.084489799
A19: AP | C19: 0.078138435
A20: RS | C20: 0.076318909
... A35: AM | C35: 0.0059573114
C37: Fonte: (CONFAZ/MF, 2026a, 2026b; FECOMBUSTÍVEIS, 2026)

Sheet A-38
A1: Voltar p/ Índice
E2: =Índice!AF3 -> Análise de Conjuntura - Ano Base 2025
C5: =Índice!AU34 -> Gráfico 38 - Fluxo de usinas de etanol de cana e milho no Brasil
A7: Ano | C7: Implantação (Cana) | D7: Fechamento (Cana) | E7: Reativação (Cana) | F7: Implantação (Milho)
C8: (unidades)
A9: 2005 | C9: 8
A10: 2006 | C10: 24
A11: 2007 | C11: 26
A12: 2008 | C12: 34 | D12: -4
A13: 2009 | C13: 21 | D13: -5
A14: 2010 | C14: 13 | D14: -5
A15: 2011 | C15: 5 | D15: -19
A16: 2012 | C16: 2 | D16: -20 | E16: 2 | F16: 1
A17: 2013 | C17: 3 | D17: -17 | E17: 2 | F17: 1
A18: 2014 | D18: -15 | E18: 2 | F18: 1
A19: 2015 | C19: 1 | D19: -11 | E19: 7 | F19: 2
A20: 2016 | C20: 2 | D20: -1 | E20: 3 | F20: 1
A21: 2017 | D21: -15 | E21: 3 | F21: 2
A22: 2018 | D22: -8 | E22: 4 | F22: 3
A23: 2019 | D23: -6 | E23: 1 | F23: 2
A24: 2020 | D24: -4 | E24: 4 | F24: 2
A25: 2021 | D25: -3 | F25: 3
A26: 2022 | D26: -7 | E26: 3 | F26: 2
A27: 2023 | C27: 2 | F27: 6
A28: 2024 | F28: 6
A29: 2025 | C29: 1 | D29: -2 | E29: 1 | F29: 4
C31: Fonte: EPE a partir de (ANP, 2026a, 2026d; MAPA, 2026c, 2026d; UNICA, 2014).

Sheet A-39
A1: Voltar p/ Índice
E2: =Índice!AF3 -> Análise de Conjuntura - Ano Base 2025
C5: =Índice!AU38 -> Gráfico 39 - Produção, capacidade excedente e nominal de etanol em 2025
A7: Insumo | C7: Etanol Produzido | D7: Capacidade Ociosa | E7: Capacidade Nominal
C8: (Milhões de litros)
A9: Cana-de-açúcar | C9: 26.707262 | D9: 21.558738 | E9: 48.266
A10: Milho | C10: 9.535726 | D10: 2.821054 | E10: 12.35678
C12: Fonte: EPE a partir de (ANP, 2026a, 2026d; MAPA, 2026b, 2026c, 2026d; UNICA, 2026).

Sheet A-40
A1: Voltar p/ Índice
E2: =Índice!AF3 -> Análise de Conjuntura - Ano Base 2025
C5: =Índice!AU42 -> Gráfico 40 - Evolução da capacidade instalada de produção de etanol no Brasil
A7: Ano | C7: Anidro | D7: Hidratado
C8: (mil m³/dia)
A9: 2014 | C9: 106 | D9: 206
A10: 2015 | C10: 116 | D10: 213
A11: 2016 | C11: 120 | D11: 219
A12: 2017 | C12: 128 | D12: 237
A13: 2018 | C13: 126 | D13: 233
A14: 2019 | C14: 130 | D14: 237
A15: 2020 | C15: 129.341 | D15: 242.902
A16: 2021 | C16: 132 | D16: 246
A17: 2022 | C17: 135.773 | D17: 251.3053
A18: 2023 | C18: 140 | D18: 257
A19: 2024 | C19: 147.23 | D19: 269.3338
A20: 2025 | C20: 154.951 | D20: 277.6648
C22: Fonte: EPE a partir de (ANP, 2026a)

Sheet A-41
A1: Voltar p/ Índice
E2: =Índice!AF3 -> Análise de Conjuntura - Ano Base 2025
C5: =Índice!AU46 -> Gráfico 41 - Capacidade brasileira de tancagem de etanol por região em 2025
A7: Regiões | C7: Total
C8: (bilhões de litros)
A9: Centro-Oeste | C9: 5.821329
A10: Nordeste | C10: 1.187355
A11: Norte | C11: 0.1538
A12: Sudeste | C12: 11.936688
A13: Sul | C13: 0.891638
A14: Brasil | C14: 19.99081
C16: Fonte: EPE a partir de (ANP, 2026a)

Sheet A-42
A1: Voltar p/ Índice
E2: =Índice!AF3 -> Análise de Conjuntura - Ano Base 2025
C5: =Índice!AU50 -> Gráfico 42 - Participação da biomassa na geração elétrica
A7: Mês | C7: Hidráulica (>30 MW) | D7: PCH | E7: Térmica | F7: Eólica | G7: Solar Fotovoltaica | H7: Térmica a Biomassa
C8: (GWméd)
A9: 44197 | C9: 43.055918 | D9: 3.0107751 | E9: 14.685229 | F9: 7.3411081 | G9: 0.69686852 | H9: 0.9334964
A10: 44228 | C10: 48.636147 | D10: 3.2546852 | E10: 11.555042 | F10: 5.2444287 | G10: 0.6138013 | H10: 0.94613698
A11: 44256 | C11: 50.102471 | D11: 3.0028212 | E11: 10.024262 | F11: 5.197949 | G11: 0.73956933 | H11: 1.2523084
A12: 44287 | C12: 44.758744 | D12: 2.3253987 | E12: 11.409649 | F12: 6.0772957 | G12: 0.74235549 | H12: 2.9086769
A13: 44317 | C13: 41.426051 | D13: 2.0192263 | E13: 12.950243 | F13: 6.9416524 | G13: 0.74508883 | H13: 4.249629
A14: 44348 | C14: 35.385267 | D14: 2.2390045 | E14: 17.241746 | F14: 7.8537217 | G14: 0.77722523 | H14: 4.2792457
A15: 44378 | C15: 31.406729 | D15: 1.8790712 | E15: 18.86659 | F15: 9.4507233 | G15: 0.79180238 | H15: 4.6036111
A16: 44409 | C16: 30.188633 | D16: 1.5653481 | E16: 20.833353 | F16: 10.685557 | G16: 0.78665248 | H16: 4.5430326
A17: 44440 | C17: 32.413152 | D17: 1.8374135 | E17: 20.978256 | F17: 10.510493 | G17: 1.002871 | H17: 4.3680635
A18: 44470 | C18: 31.759476 | D18: 2.7794555 | E18: 20.406066 | F18: 9.3388285 | G18: 0.95116888 | H18: 3.2962547
A19: 44501 | C19: 37.097915 | D19: 2.8680395 | E19: 18.052309 | F19: 7.8205865 | G19: 1.0754736 | H19: 2.2382228
A20: 44531 | C20: 42.169871 | D20: 2.9393566 | E20: 12.977592 | F20: 7.7491472 | G20: 1.0005473 | H20: 1.0923568
... A68: 45992 | C68: 44.411201 | D68: 2.8387009 | E68: 9.6760324 | F68: 11.254933 | G68: 4.3925655 | H68: 1.8500793
C70: Fonte: EPE a partir de (CCEE, 2026a).

Sheet A-43
A1: Voltar p/ Índice
E2: =Índice!AF3 -> Análise de Conjuntura - Ano Base 2025
C5: =Índice!_Ref65749564 -> Gráfico 43 - Autoconsumo e energia exportada pelas usinas de biomassa de cana
A7: Ano | C7: Autoconsumo | D7: Exportação
C8: (GWméd)
A9: 2015 | C9: 1.5815868 | D9: 2.3024315
A10: 2016 | C10: 1.6332511 | D10: 2.3891233
A11: 2017 | C11: 1.6339746 | D11: 2.436345
A12: 2018 | C12: 1.5979896 | D12: 2.4471017
A13: 2019 | C13: 1.6461214 | D13: 2.5579101
A14: 2020 | C14: 1.8468944 | D14: 2.5795424
A15: 2021 | C15: 1.641051 | D15: 2.2774599
A16: 2022 | C16: 1.5918255 | D16: 2.0897056
A17: 2023 | C17: 1.7877698 | D17: 2.3825329
A18: 2024 | C18: 1.8590497 | D18: 2.4115442
A19: 2025 | C19: 1.7982354 | D19: 2.3183961
C21: Fonte: EPE a partir de CCEE (2024a); EPE (2024a)

Sheet A-44
A1: Voltar p/ Índice
E2: =Índice!AF3 -> Análise de Conjuntura - Ano Base 2025
C5: =Índice!AU58 -> Gráfico 44 - Histórico de energia contratada e cana processada
A7: Ano | C7: Energia Injetada | D7: Cana Processada
C8: (GWméd) | D8: (Mtc)
A9: 2018 | C9: 2.4837836 | D9: 608.52213
A10: 2019 | C10: 2.5579101 | D10: 654.08202
A11: 2020 | C11: 2.5795424 | D11: 662.68558
A12: 2021 | C12: 2.2774599 | D12: 581.4456
A13: 2022 | C13: 2.0897056 | D13: 595.3061
A14: 2023 | C14: 2.3825329 | D14: 712.5
A15: 2024 | C15: 2.4115442 | D15: 686.2655
A16: 2025 | C16: 2.3183961 | D16: 659.97501
C18: Fonte: EPE a partir de (CCEE, 2026a; MAPA, 2026a).

Sheet A-45
A1: Voltar p/ Índice
E2: =Índice!AF3 -> Análise de Conjuntura - Ano Base 2025
C5: =Índice!AU62 -> Gráfico 45 - Geração térmica a biomassa de cana versus PLD
A7: Mês | C7: Térmicas Sucroenergéticas | D7: PLD SE/CO
C8: (GWméd) | D8: (R$ - dez/24)
A9: 44197 | C9: 0.35750147 | D9: 281.88911
A10: 44228 | C10: 0.34431714 | D10: 191.12149
A11: 44256 | C11: 0.66725466 | D11: 124.37688
A12: 44287 | C12: 2.2995514 | D12: 150.84504
A13: 44317 | C13: 3.5951213 | D13: 246.68815
A14: 44348 | C14: 3.6706676 | D14: 378.11232
A15: 44378 | C15: 3.9849567 | D15: 648.90044
A16: 44409 | C16: 3.9344681 | D16: 643.3037
A17: 44440 | C17: 3.7671264 | D17: 628.83665
A18: 44470 | C18: 2.6601288 | D18: 268.23496
A19: 44501 | C19: 1.4824138 | D19: 93.87678
A20: 44531 | C20: 0.44699471 | D20: 70.526754
... A68: 45992 | C68: 0.85492198 | D68: 265.89
C70: Fonte: EPE a partir de (CCEE, 2026b).

Sheet A-46
A1: Voltar p/ Índice
E2: =Índice!AF3 -> Análise de Conjuntura - Ano Base 2025
C5: =Índice!BJ6 -> Gráfico 46 - Participação das demais biomassas x cana-de-açúcar
A7: Mês | C7: Cana | E7: Demais
C8: (GWméd) | D8: (%) | E8: (GWméd) | F8: (%)
A9: 2017 | C9: 2.436345 | D9: 0.83766308 | E9: 0.47215731 | F9: 0.16233692
A10: 2018 | C10: 2.4471017 | D10: 0.81373538 | E10: 0.56014336 | F10: 0.18626462
A11: 2019 | C11: 2.5579101 | D11: 0.82290276 | E11: 0.5504889 | F11: 0.17709724
A12: 2020 | C12: 2.5693028 | D12: 0.82318552 | E12: 0.55446436 | F12: 0.17681448
A13: 2021 | C13: 2.2675418 | D13: 0.78465682 | E13: 0.62504439 | F13: 0.21534318
A14: 2022 | C14: 2.0897056 | D14: 0.72064034 | E14: 0.81008432 | F14: 0.27935966
A15: 2023 | C15: 2.3825329 | D15: 0.7446101 | E15: 0.81717243 | F15: 0.2553899
A16: 2024 | C16: 2.4115442 | D16: 0.75025 | E16: 0.802 | F16: 0.24975
A17: 2025 | C17: 2.3183961 | D17: =C17/(C17+E17) -> 0.71610777 | E17: 0.9191 | F17: =1-D17 -> 0.28389223
C18: Cana injetada | D18: Cana | E18: Demais injetadas | F18: Demais
C20: Fonte: EPE a partir de (CCEE, 2026a).

Sheet A-47
A1: Voltar p/ Índice
G2: =Índice!$AF$3 -> Análise de Conjuntura - Ano Base 2025
E5: =Índice!BJ10 -> Gráfico 47 - Preços médios - biodiesel e diesel sem ICMS
A7: Ano | B7: Leilão | C7: Mês | E7: Preço do diesel na refinaria (sem ICMS) | F7: Preço do biodiesel no leilão | G7: Preço do biodiesel - negociação livre
E8: (R$(dez/2025) milhares/m³)
A9: 2017 | B9: 53 | C9: jan | E9: 4.3058253 | F9: 4.6730181
C10: fev | E10: 4.0923437 | F10: 4.6432538
B11: 54 | C11: mar | E11: 4.1276894 | F11: 4.3351868
C12: abr | E12: 4.4578315 | F12: 4.3161748
B13: 55 | C13: mai | E13: 4.7231399 | F13: 4.6480648
C14: jun | E14: 4.067763 | F14: 4.5331107
B15: 56 | C15: jul | E15: 4.0320152 | F15: 4.1758963
C16: ago | E16: 4.1504344 | F16: 4.1834231
B17: 57 | C17: set | E17: 4.4764766 | F17: 4.7814605
C18: out | E18: 4.4762702 | F18: 4.7387161
B19: 58 | C19: nov | E19: 4.0669046 | F19: 4.4551919
C20: dez | E20: 3.6446513 | F20: 4.4418563 | AL20: Produto | AM20: Período | AO20: Região | AP20: Brasil
A21: 2018 | B21: 59 | C21: jan | E21: 3.8581962 | F21: 4.4130587 | AK21: 44562 | AL21: Biodiesel B-100 (R$/litro) | AM21: 44585 | AN21: 44591 | AO21: 6.57902 | AP21: 6.5178 | AQ21: 6.510305
C22: fev | E22: 3.9882686 | F22: 4.3753498 | AK22: 44593 | AL22: Biodiesel B-100 (R$/litro) | AM22: 44613 | AN22: 44619 | AO22: 6.70652 | AP22: 6.70557 | AQ22: 6.61712
B23: 60 | C23: mar | E23: 4.0885999 | F23: 3.8168921 | AK23: 44621 | AL23: Biodiesel B-100 (R$/litro) | AM23: 44641 | AN23: 44647 | AO23: 7.26854 | AP23: 7.25727 | AQ23: 7.136985
C24: abr | E24: 4.1235432 | F24: 3.7737488 | AK24: 44652 | AL24: Biodiesel B-100 (R$/litro) | AM24: 44676 | AN24: 44682 | AO24: 6.86652 | AP24: 6.97449 | AQ24: 6.91425
B25: 61 | C25: mai | E25: 4.268781 | F25: 3.6893457 | AK25: 44682 | AL25: Biodiesel B-100 (R$/litro) | AM25: 44704 | AN25: 44710 | AO25: 7.18603 | AP25: 7.38499 | AQ25: 7.353505
C26: jun | E26: 3.9491784 | F26: 3.6886079 | AK26: 44713 | AL26: Biodiesel B-100 (R$/litro) | AM26: 44732 | AN26: 44738 | AO26: 7.0071 | AP26: 6.93166 | AQ26: 7.01911
B27: 62 | C27: jul | E27: 3.8861569 | F27: 3.7418764 | AK27: 44743 | AL27: Biodiesel B-100 (R$/litro) | AM27: 44767 | AN27: 44773 | AO27: 6.33142 | AP27: 6.11721 | AQ27: 6.38161
C28: ago | E28: 3.9211885 | F28: 3.7336578 | AK28: 44774 | AL28: Biodiesel B-100 (R$/litro) | AM28: 44795 | AN28: 44801 | AO28: 6.00166 | AP28: 5.88013 | AQ28: 5.90053
B29: 63 | C29: set | E29: 4.1307066 | F29: 4.5837508 | AK29: 44805 | AL29: Biodiesel B-100 (R$/litro) | AM29: 44830 | AN29: 44836 | AO29: 5.66616 | AP29: 5.55044 | AQ29: 5.84915
C30: out | E30: 4.1982593 | F30: 4.574597 | AK30: 44835 | AL30: Biodiesel B-100 (R$/litro) | AM30: 44858 | AN30: 44864 | AO30: 5.37489 | AP30: 5.42857 | AQ30: 5.32939
B31: 64 | C31: nov | E31: 4.1056412 | F31: 4.5559363 | AK31: 44866 | AL31: Biodiesel B-100 (R$/litro) | AM31: 44886 | AN31: 44892 | AO31: 6.22072 | AP31: 6.14058 | AQ31: 5.97936
C32: dez | E32: 4.129468 | F32: 4.4996391 | AK32: 44896 | AL32: Biodiesel B-100 (R$/litro) | AM32: 44921 | AN32: 44927 | AO32: 6.03962 | AP32: 5.73702 | AQ32: 5.86276
A33: 2019 | B33: 65 | C33: jan | E33: 3.9920574 | F33: 4.810031 | AK33: 44927 | AL33: Biodiesel B-100 (R$/litro) | AM33: 44949 | AN33: 44955 | AO33: 5.6714 | AP33: 5.49708 | AQ33: 5.640485
C34: fev | E34: 4.0671128 | F34: 4.7434858 | AK34: 44958 | AL34: Biodiesel B-100 (R$/litro) | AM34: 44977 | AN34: 44983 | AO34: 5.37311 | AP34: 5.1356 | AQ34: 5.21651
B35: 66 | C35: mar | E35: 3.9838133 | F35: 4.6324092 | AK35: 44986 | AL35: Biodiesel B-100 (R$/litro) | AM35: 45012 | AN35: 45018 | AO35: 4.91439 | AP35: 4.73874 | AQ35: 4.94013
C36: abr | E36: 3.6502531 | F36: 4.6352262 | AK36: 45017 | AL36: Biodiesel B-100 (R$/litro) | AM36: 45040 | AN36: 45046 | AO36: 4.35403 | AP36: 4.15725 | AQ36: 4.29589
B37: 67 | C37: mai | E37: 3.2412682 | F37: 4.6340218 | AK37: 45047 | AL37: Biodiesel B-100 (R$/litro) | AM37: 45068 | AN37: 45074 | AO37: 4.0156 | AP37: 4.05529 | AQ37: 4.06943
C38: jun | E38: 2.822402 | F38: 4.6363774 | AK38: 45078 | AL38: Biodiesel B-100 (R$/litro) | AM38: 45103 | AN38: 45109 | AO38: 3.98478 | AP38: 4.03363 | AQ38: 3.95246
